BEGIN:VCALENDAR
VERSION:2.0
PRODID:-//Marco Martinez - ECPv6.15.20//NONSGML v1.0//EN
CALSCALE:GREGORIAN
METHOD:PUBLISH
X-WR-CALNAME:Marco Martinez
X-ORIGINAL-URL:https://marcomartinez.es
X-WR-CALDESC:Eventos para Marco Martinez
REFRESH-INTERVAL;VALUE=DURATION:PT1H
X-Robots-Tag:noindex
X-PUBLISHED-TTL:PT1H
BEGIN:VTIMEZONE
TZID:Europe/Paris
BEGIN:DAYLIGHT
TZOFFSETFROM:+0100
TZOFFSETTO:+0200
TZNAME:CEST
DTSTART:20230326T010000
END:DAYLIGHT
BEGIN:STANDARD
TZOFFSETFROM:+0200
TZOFFSETTO:+0100
TZNAME:CET
DTSTART:20231029T010000
END:STANDARD
BEGIN:DAYLIGHT
TZOFFSETFROM:+0100
TZOFFSETTO:+0200
TZNAME:CEST
DTSTART:20240331T010000
END:DAYLIGHT
BEGIN:STANDARD
TZOFFSETFROM:+0200
TZOFFSETTO:+0100
TZNAME:CET
DTSTART:20241027T010000
END:STANDARD
BEGIN:DAYLIGHT
TZOFFSETFROM:+0100
TZOFFSETTO:+0200
TZNAME:CEST
DTSTART:20250330T010000
END:DAYLIGHT
BEGIN:STANDARD
TZOFFSETFROM:+0200
TZOFFSETTO:+0100
TZNAME:CET
DTSTART:20251026T010000
END:STANDARD
END:VTIMEZONE
BEGIN:VEVENT
DTSTART;TZID=Europe/Paris:20240403T210000
DTEND;TZID=Europe/Paris:20240403T223000
DTSTAMP:20260424T035617
CREATED:20240229T061902Z
LAST-MODIFIED:20240229T062032Z
UID:20539-1712178000-1712183400@marcomartinez.es
SUMMARY:Organ Trio • La Luna (Salinas)
DESCRIPTION:Adra Karim: organo \nIan Morris: batería \nMarco Martínez: guitarra
URL:https://marcomartinez.es/event/organtrio-2/
END:VEVENT
END:VCALENDAR