BEGIN:VCALENDAR
VERSION:2.0
PRODID:-//Marco Martinez - ECPv6.15.20//NONSGML v1.0//EN
CALSCALE:GREGORIAN
METHOD:PUBLISH
X-WR-CALNAME:Marco Martinez
X-ORIGINAL-URL:https://marcomartinez.es
X-WR-CALDESC:Eventos para Marco Martinez
REFRESH-INTERVAL;VALUE=DURATION:PT1H
X-Robots-Tag:noindex
X-PUBLISHED-TTL:PT1H
BEGIN:VTIMEZONE
TZID:Europe/Paris
BEGIN:DAYLIGHT
TZOFFSETFROM:+0100
TZOFFSETTO:+0200
TZNAME:CEST
DTSTART:20230326T010000
END:DAYLIGHT
BEGIN:STANDARD
TZOFFSETFROM:+0200
TZOFFSETTO:+0100
TZNAME:CET
DTSTART:20231029T010000
END:STANDARD
BEGIN:DAYLIGHT
TZOFFSETFROM:+0100
TZOFFSETTO:+0200
TZNAME:CEST
DTSTART:20240331T010000
END:DAYLIGHT
BEGIN:STANDARD
TZOFFSETFROM:+0200
TZOFFSETTO:+0100
TZNAME:CET
DTSTART:20241027T010000
END:STANDARD
BEGIN:DAYLIGHT
TZOFFSETFROM:+0100
TZOFFSETTO:+0200
TZNAME:CEST
DTSTART:20250330T010000
END:DAYLIGHT
BEGIN:STANDARD
TZOFFSETFROM:+0200
TZOFFSETTO:+0100
TZNAME:CET
DTSTART:20251026T010000
END:STANDARD
END:VTIMEZONE
BEGIN:VEVENT
DTSTART;TZID=Europe/Paris:20240804T220000
DTEND;TZID=Europe/Paris:20240804T230000
DTSTAMP:20260423T020535
CREATED:20240528T055336Z
LAST-MODIFIED:20240528T055800Z
UID:20591-1722808800-1722812400@marcomartinez.es
SUMMARY:AKNOT · Festival Las 3 Noches de Lastres (Colunga)
DESCRIPTION:Adra Karim: organo \nIan Morris: batería \nMarco Martínez: guitarra
URL:https://marcomartinez.es/event/aknot/
END:VEVENT
BEGIN:VEVENT
DTSTART;TZID=Europe/Paris:20240806T213000
DTEND;TZID=Europe/Paris:20240806T233000
DTSTAMP:20260423T020535
CREATED:20240719T071838Z
LAST-MODIFIED:20240719T072017Z
UID:20633-1722979800-1722987000@marcomartinez.es
SUMMARY:AKNOT · Adra Karim Northern Organ Trio • Restaurante El Oviedo (Ribadeo)
DESCRIPTION:Adra Karim: organo \nIan Morris: batería \nMarco Martínez: guitarra
URL:https://marcomartinez.es/event/aknot%c2%b7adrakarimnorthernorgantrio-2/
END:VEVENT
BEGIN:VEVENT
DTSTART;TZID=Europe/Paris:20240807T210000
DTEND;TZID=Europe/Paris:20240807T223000
DTSTAMP:20260423T020535
CREATED:20240227T141902Z
LAST-MODIFIED:20240227T142148Z
UID:20527-1723064400-1723069800@marcomartinez.es
SUMMARY:AKNOT · Adra Karim Northern Organ Trio • Festival Jazz Candás
DESCRIPTION:Adra Karim: organo \nIan Morris: batería \nMarco Martínez: guitarra
URL:https://marcomartinez.es/event/aknot%c2%b7adrakarimnorthernorgantrio/
END:VEVENT
END:VCALENDAR