BEGIN:VCALENDAR
VERSION:2.0
PRODID:-//Marco Martinez - ECPv6.15.20//NONSGML v1.0//EN
CALSCALE:GREGORIAN
METHOD:PUBLISH
X-WR-CALNAME:Marco Martinez
X-ORIGINAL-URL:https://marcomartinez.es
X-WR-CALDESC:Eventos para Marco Martinez
REFRESH-INTERVAL;VALUE=DURATION:PT1H
X-Robots-Tag:noindex
X-PUBLISHED-TTL:PT1H
BEGIN:VTIMEZONE
TZID:Europe/Paris
BEGIN:DAYLIGHT
TZOFFSETFROM:+0100
TZOFFSETTO:+0200
TZNAME:CEST
DTSTART:20240331T010000
END:DAYLIGHT
BEGIN:STANDARD
TZOFFSETFROM:+0200
TZOFFSETTO:+0100
TZNAME:CET
DTSTART:20241027T010000
END:STANDARD
BEGIN:DAYLIGHT
TZOFFSETFROM:+0100
TZOFFSETTO:+0200
TZNAME:CEST
DTSTART:20250330T010000
END:DAYLIGHT
BEGIN:STANDARD
TZOFFSETFROM:+0200
TZOFFSETTO:+0100
TZNAME:CET
DTSTART:20251026T010000
END:STANDARD
BEGIN:DAYLIGHT
TZOFFSETFROM:+0100
TZOFFSETTO:+0200
TZNAME:CEST
DTSTART:20260329T010000
END:DAYLIGHT
BEGIN:STANDARD
TZOFFSETFROM:+0200
TZOFFSETTO:+0100
TZNAME:CET
DTSTART:20261025T010000
END:STANDARD
END:VTIMEZONE
BEGIN:VEVENT
DTSTART;TZID=Europe/Paris:20250508T203000
DTEND;TZID=Europe/Paris:20250508T233000
DTSTAMP:20260422T033235
CREATED:20240924T222203Z
LAST-MODIFIED:20240924T222233Z
UID:20737-1746736200-1746747000@marcomartinez.es
SUMMARY:Concierto/Jam de Jazz al Chigre · Lata de Zinc
DESCRIPTION: \n 
URL:https://marcomartinez.es/event/jamdejazzalchigre-2-copy-copy-4-copy/
END:VEVENT
BEGIN:VEVENT
DTSTART;TZID=Europe/Paris:20250515T200000
DTEND;TZID=Europe/Paris:20250515T230000
DTSTAMP:20260422T033235
CREATED:20240917T122819Z
LAST-MODIFIED:20240917T124154Z
UID:20686-1747339200-1747350000@marcomartinez.es
SUMMARY:Mini Concierto + Jam Session · La Salvaje
DESCRIPTION: \n 
URL:https://marcomartinez.es/event/jamsessionlasalvaje-copy/
END:VEVENT
END:VCALENDAR