BEGIN:VCALENDAR
VERSION:2.0
PRODID:-//Marco Martinez - ECPv6.15.20//NONSGML v1.0//EN
CALSCALE:GREGORIAN
METHOD:PUBLISH
X-ORIGINAL-URL:https://marcomartinez.es
X-WR-CALDESC:Eventos para Marco Martinez
REFRESH-INTERVAL;VALUE=DURATION:PT1H
X-Robots-Tag:noindex
X-PUBLISHED-TTL:PT1H
BEGIN:VTIMEZONE
TZID:Europe/Paris
BEGIN:DAYLIGHT
TZOFFSETFROM:+0100
TZOFFSETTO:+0200
TZNAME:CEST
DTSTART:20230326T010000
END:DAYLIGHT
BEGIN:STANDARD
TZOFFSETFROM:+0200
TZOFFSETTO:+0100
TZNAME:CET
DTSTART:20231029T010000
END:STANDARD
BEGIN:DAYLIGHT
TZOFFSETFROM:+0100
TZOFFSETTO:+0200
TZNAME:CEST
DTSTART:20240331T010000
END:DAYLIGHT
BEGIN:STANDARD
TZOFFSETFROM:+0200
TZOFFSETTO:+0100
TZNAME:CET
DTSTART:20241027T010000
END:STANDARD
BEGIN:DAYLIGHT
TZOFFSETFROM:+0100
TZOFFSETTO:+0200
TZNAME:CEST
DTSTART:20250330T010000
END:DAYLIGHT
BEGIN:STANDARD
TZOFFSETFROM:+0200
TZOFFSETTO:+0100
TZNAME:CET
DTSTART:20251026T010000
END:STANDARD
END:VTIMEZONE
BEGIN:VEVENT
DTSTART;TZID=Europe/Paris:20241010T200000
DTEND;TZID=Europe/Paris:20241010T230000
DTSTAMP:20260423T030337
CREATED:20240917T121010Z
LAST-MODIFIED:20240917T121326Z
UID:20679-1728590400-1728601200@marcomartinez.es
SUMMARY:Mini Concierto + Jam Session · La Salvaje
DESCRIPTION: \n 
URL:https://marcomartinez.es/event/jamsessionlasalvaje/
END:VEVENT
BEGIN:VEVENT
DTSTART;TZID=Europe/Paris:20241024T203000
DTEND;TZID=Europe/Paris:20241024T233000
DTSTAMP:20260423T030337
CREATED:20240924T220511Z
LAST-MODIFIED:20240924T220843Z
UID:20717-1729801800-1729812600@marcomartinez.es
SUMMARY:Concierto/Jam de Jazz al Chigre · Lata de Zinc
DESCRIPTION: \n 
URL:https://marcomartinez.es/event/jamdejazzalchigre/
END:VEVENT
END:VCALENDAR