BEGIN:VCALENDAR
VERSION:2.0
PRODID:-//Marco Martinez - ECPv6.15.20//NONSGML v1.0//EN
CALSCALE:GREGORIAN
METHOD:PUBLISH
X-ORIGINAL-URL:https://marcomartinez.es
X-WR-CALDESC:Eventos para Marco Martinez
REFRESH-INTERVAL;VALUE=DURATION:PT1H
X-Robots-Tag:noindex
X-PUBLISHED-TTL:PT1H
BEGIN:VTIMEZONE
TZID:Europe/Paris
BEGIN:DAYLIGHT
TZOFFSETFROM:+0100
TZOFFSETTO:+0200
TZNAME:CEST
DTSTART:20230326T010000
END:DAYLIGHT
BEGIN:STANDARD
TZOFFSETFROM:+0200
TZOFFSETTO:+0100
TZNAME:CET
DTSTART:20231029T010000
END:STANDARD
BEGIN:DAYLIGHT
TZOFFSETFROM:+0100
TZOFFSETTO:+0200
TZNAME:CEST
DTSTART:20240331T010000
END:DAYLIGHT
BEGIN:STANDARD
TZOFFSETFROM:+0200
TZOFFSETTO:+0100
TZNAME:CET
DTSTART:20241027T010000
END:STANDARD
BEGIN:DAYLIGHT
TZOFFSETFROM:+0100
TZOFFSETTO:+0200
TZNAME:CEST
DTSTART:20250330T010000
END:DAYLIGHT
BEGIN:STANDARD
TZOFFSETFROM:+0200
TZOFFSETTO:+0100
TZNAME:CET
DTSTART:20251026T010000
END:STANDARD
END:VTIMEZONE
BEGIN:VEVENT
DTSTART;VALUE=DATE:20240729
DTEND;VALUE=DATE:20240803
DTSTAMP:20260423T081236
CREATED:20231106T131704Z
LAST-MODIFIED:20231106T131800Z
UID:20453-1722211200-1722643199@marcomartinez.es
SUMMARY:SEIM · 21º Seminario de Improvisación de Siero (Principado de Asturias)
DESCRIPTION:
URL:https://marcomartinez.es/event/seim-seminariodeimprovisacion-de-siero-copy/
END:VEVENT
BEGIN:VEVENT
DTSTART;VALUE=DATE:20240730
DTEND;VALUE=DATE:20240803
DTSTAMP:20260423T081236
CREATED:20240603T092613Z
LAST-MODIFIED:20240604T221718Z
UID:20597-1722297600-1722643199@marcomartinez.es
SUMMARY:SEIM Jam Session · Cuévano (Pola de Siero)
DESCRIPTION:
URL:https://marcomartinez.es/event/seim-seminario-de-improvisacion-de-siero/
END:VEVENT
BEGIN:VEVENT
DTSTART;TZID=Europe/Paris:20240731T203000
DTEND;TZID=Europe/Paris:20240731T220000
DTSTAMP:20260423T081236
CREATED:20240604T222534Z
LAST-MODIFIED:20240604T222700Z
UID:20605-1722457800-1722463200@marcomartinez.es
SUMMARY:AKNOT #SEIM24 · Festival Jazz Siero
DESCRIPTION: \n 
URL:https://marcomartinez.es/event/festival-jazz-siero-copy-2/
END:VEVENT
END:VCALENDAR