BEGIN:VCALENDAR
VERSION:2.0
PRODID:-//Marco Martinez - ECPv6.15.20//NONSGML v1.0//EN
CALSCALE:GREGORIAN
METHOD:PUBLISH
X-WR-CALNAME:Marco Martinez
X-ORIGINAL-URL:https://marcomartinez.es
X-WR-CALDESC:Eventos para Marco Martinez
REFRESH-INTERVAL;VALUE=DURATION:PT1H
X-Robots-Tag:noindex
X-PUBLISHED-TTL:PT1H
BEGIN:VTIMEZONE
TZID:Europe/Paris
BEGIN:DAYLIGHT
TZOFFSETFROM:+0100
TZOFFSETTO:+0200
TZNAME:CEST
DTSTART:20240331T010000
END:DAYLIGHT
BEGIN:STANDARD
TZOFFSETFROM:+0200
TZOFFSETTO:+0100
TZNAME:CET
DTSTART:20241027T010000
END:STANDARD
BEGIN:DAYLIGHT
TZOFFSETFROM:+0100
TZOFFSETTO:+0200
TZNAME:CEST
DTSTART:20250330T010000
END:DAYLIGHT
BEGIN:STANDARD
TZOFFSETFROM:+0200
TZOFFSETTO:+0100
TZNAME:CET
DTSTART:20251026T010000
END:STANDARD
BEGIN:DAYLIGHT
TZOFFSETFROM:+0100
TZOFFSETTO:+0200
TZNAME:CEST
DTSTART:20260329T010000
END:DAYLIGHT
BEGIN:STANDARD
TZOFFSETFROM:+0200
TZOFFSETTO:+0100
TZNAME:CET
DTSTART:20261025T010000
END:STANDARD
END:VTIMEZONE
BEGIN:VEVENT
DTSTART;VALUE=DATE:20250728
DTEND;VALUE=DATE:20250802
DTSTAMP:20260420T093505
CREATED:20240924T222442Z
LAST-MODIFIED:20240924T222527Z
UID:20739-1753660800-1754092799@marcomartinez.es
SUMMARY:SEIM · 22º Seminario de Improvisación de Siero (Principado de Asturias)
DESCRIPTION:
URL:https://marcomartinez.es/event/seim-seminariodeimprovisacion-de-siero-2/
END:VEVENT
BEGIN:VEVENT
DTSTART;VALUE=DATE:20250729
DTEND;VALUE=DATE:20250802
DTSTAMP:20260420T093505
CREATED:20250615T092701Z
LAST-MODIFIED:20250615T092749Z
UID:20825-1753747200-1754092799@marcomartinez.es
SUMMARY:SEIM Jam Session · Cuévano (Pola de Siero)
DESCRIPTION:
URL:https://marcomartinez.es/event/seim-seminario-de-improvisacion-de-siero-copy/
END:VEVENT
END:VCALENDAR