BEGIN:VCALENDAR
VERSION:2.0
PRODID:-//Marco Martinez - ECPv6.15.20//NONSGML v1.0//EN
CALSCALE:GREGORIAN
METHOD:PUBLISH
X-WR-CALNAME:Marco Martinez
X-ORIGINAL-URL:https://marcomartinez.es
X-WR-CALDESC:Eventos para Marco Martinez
REFRESH-INTERVAL;VALUE=DURATION:PT1H
X-Robots-Tag:noindex
X-PUBLISHED-TTL:PT1H
BEGIN:VTIMEZONE
TZID:Europe/Paris
BEGIN:DAYLIGHT
TZOFFSETFROM:+0100
TZOFFSETTO:+0200
TZNAME:CEST
DTSTART:20220327T010000
END:DAYLIGHT
BEGIN:STANDARD
TZOFFSETFROM:+0200
TZOFFSETTO:+0100
TZNAME:CET
DTSTART:20221030T010000
END:STANDARD
BEGIN:DAYLIGHT
TZOFFSETFROM:+0100
TZOFFSETTO:+0200
TZNAME:CEST
DTSTART:20230326T010000
END:DAYLIGHT
BEGIN:STANDARD
TZOFFSETFROM:+0200
TZOFFSETTO:+0100
TZNAME:CET
DTSTART:20231029T010000
END:STANDARD
BEGIN:DAYLIGHT
TZOFFSETFROM:+0100
TZOFFSETTO:+0200
TZNAME:CEST
DTSTART:20240331T010000
END:DAYLIGHT
BEGIN:STANDARD
TZOFFSETFROM:+0200
TZOFFSETTO:+0100
TZNAME:CET
DTSTART:20241027T010000
END:STANDARD
BEGIN:DAYLIGHT
TZOFFSETFROM:+0100
TZOFFSETTO:+0200
TZNAME:CEST
DTSTART:20250330T010000
END:DAYLIGHT
BEGIN:STANDARD
TZOFFSETFROM:+0200
TZOFFSETTO:+0100
TZNAME:CET
DTSTART:20251026T010000
END:STANDARD
END:VTIMEZONE
BEGIN:VEVENT
DTSTART;VALUE=DATE:20231002
DTEND;VALUE=DATE:20240628
DTSTAMP:20260424T153221
CREATED:20230914T082834Z
LAST-MODIFIED:20230914T083500Z
UID:20338-1696204800-1719532799@marcomartinez.es
SUMMARY:⚠️ Curso 2023-24 Online/Presencial Escuela de Música [Marco Martínez]
DESCRIPTION:
URL:https://marcomartinez.es/event/curso-2023-24-online-presencial-escuela-de-musica-marco-martinez/
ATTACH;FMTTYPE=image/png:https://marcomartinez.es/wp-content/uploads/2022/09/Marco-Martinez-www.marcomartinez.es3_.png
END:VEVENT
BEGIN:VEVENT
DTSTART;VALUE=DATE:20240603
DTEND;VALUE=DATE:20240605
DTSTAMP:20260424T153221
CREATED:20240411T090424Z
LAST-MODIFIED:20240411T090454Z
UID:20579-1717372800-1717545599@marcomartinez.es
SUMMARY:Clases de Combo · Escuela de Música [Marco Martínez]
DESCRIPTION:Seas alumno o no de la Escuela de Musica ahora podrás apuntarte para tocar/cantar en grupo (jazz\, blues\, bossanova\, funk…) con una dirección y tutela profesional. Las plazas son limitadas! \n 
URL:https://marcomartinez.es/event/clases-de-combo-marco-martinez-copy-copy-copy-copy/
LOCATION:La Casa Furia\, Oviedo\, España
END:VEVENT
BEGIN:VEVENT
DTSTART;TZID=Europe/Paris:20240614T180000
DTEND;TZID=Europe/Paris:20240614T200000
DTSTAMP:20260424T153221
CREATED:20240612T093746Z
LAST-MODIFIED:20240612T094340Z
UID:20614-1718388000-1718395200@marcomartinez.es
SUMMARY:Sanremo • Oviedo (centro ciudad)
DESCRIPTION:Rita Ojanguren: voz \nMarco Martínez: guitarra
URL:https://marcomartinez.es/event/sanremo-4/
END:VEVENT
BEGIN:VEVENT
DTSTART;TZID=Europe/Paris:20240620T200000
DTEND;TZID=Europe/Paris:20240620T213000
DTSTAMP:20260424T153221
CREATED:20231106T125828Z
LAST-MODIFIED:20231106T130835Z
UID:20449-1718913600-1718919000@marcomartinez.es
SUMMARY:Concierto de alumnos [Escuela de Música] · La Salvaje (Oviedo)
DESCRIPTION: \n 
URL:https://marcomartinez.es/event/conciertodealumnos-4/
END:VEVENT
BEGIN:VEVENT
DTSTART;TZID=Europe/Paris:20240627T210000
DTEND;TZID=Europe/Paris:20240627T230000
DTSTAMP:20260424T153221
CREATED:20240606T103905Z
LAST-MODIFIED:20240606T104307Z
UID:20610-1719522000-1719529200@marcomartinez.es
SUMMARY:Sanremo • Al Baile La Temprana (Oviedo)
DESCRIPTION:Rita Ojanguren: voz \nMarco Martínez: guitarra
URL:https://marcomartinez.es/event/sanremo-3-copy/
END:VEVENT
END:VCALENDAR