BEGIN:VCALENDAR
VERSION:2.0
PRODID:-//Marco Martinez - ECPv6.15.20//NONSGML v1.0//EN
CALSCALE:GREGORIAN
METHOD:PUBLISH
X-ORIGINAL-URL:https://marcomartinez.es
X-WR-CALDESC:Eventos para Marco Martinez
REFRESH-INTERVAL;VALUE=DURATION:PT1H
X-Robots-Tag:noindex
X-PUBLISHED-TTL:PT1H
BEGIN:VTIMEZONE
TZID:Europe/Paris
BEGIN:DAYLIGHT
TZOFFSETFROM:+0100
TZOFFSETTO:+0200
TZNAME:CEST
DTSTART:20220327T010000
END:DAYLIGHT
BEGIN:STANDARD
TZOFFSETFROM:+0200
TZOFFSETTO:+0100
TZNAME:CET
DTSTART:20221030T010000
END:STANDARD
BEGIN:DAYLIGHT
TZOFFSETFROM:+0100
TZOFFSETTO:+0200
TZNAME:CEST
DTSTART:20230326T010000
END:DAYLIGHT
BEGIN:STANDARD
TZOFFSETFROM:+0200
TZOFFSETTO:+0100
TZNAME:CET
DTSTART:20231029T010000
END:STANDARD
BEGIN:DAYLIGHT
TZOFFSETFROM:+0100
TZOFFSETTO:+0200
TZNAME:CEST
DTSTART:20240331T010000
END:DAYLIGHT
BEGIN:STANDARD
TZOFFSETFROM:+0200
TZOFFSETTO:+0100
TZNAME:CET
DTSTART:20241027T010000
END:STANDARD
BEGIN:DAYLIGHT
TZOFFSETFROM:+0100
TZOFFSETTO:+0200
TZNAME:CEST
DTSTART:20250330T010000
END:DAYLIGHT
BEGIN:STANDARD
TZOFFSETFROM:+0200
TZOFFSETTO:+0100
TZNAME:CET
DTSTART:20251026T010000
END:STANDARD
END:VTIMEZONE
BEGIN:VEVENT
DTSTART;VALUE=DATE:20231002
DTEND;VALUE=DATE:20240628
DTSTAMP:20260425T154951
CREATED:20230914T082834Z
LAST-MODIFIED:20230914T083500Z
UID:20338-1696204800-1719532799@marcomartinez.es
SUMMARY:⚠️ Curso 2023-24 Online/Presencial Escuela de Música [Marco Martínez]
DESCRIPTION:
URL:https://marcomartinez.es/event/curso-2023-24-online-presencial-escuela-de-musica-marco-martinez/
ATTACH;FMTTYPE=image/png:https://marcomartinez.es/wp-content/uploads/2022/09/Marco-Martinez-www.marcomartinez.es3_.png
END:VEVENT
BEGIN:VEVENT
DTSTART;VALUE=DATE:20240506
DTEND;VALUE=DATE:20240508
DTSTAMP:20260425T154951
CREATED:20240411T090148Z
LAST-MODIFIED:20240411T090229Z
UID:20575-1714953600-1715126399@marcomartinez.es
SUMMARY:Clases de Combo · Escuela de Música [Marco Martínez]
DESCRIPTION:Seas alumno o no de la Escuela de Musica ahora podrás apuntarte para tocar/cantar en grupo (jazz\, blues\, bossanova\, funk…) con una dirección y tutela profesional. Las plazas son limitadas! \n 
URL:https://marcomartinez.es/event/clases-de-combo-marco-martinez-copy-copy-copy/
LOCATION:La Casa Furia\, Oviedo\, España
END:VEVENT
BEGIN:VEVENT
DTSTART;TZID=Europe/Paris:20240530T210000
DTEND;TZID=Europe/Paris:20240530T230000
DTSTAMP:20260425T154951
CREATED:20240313T072947Z
LAST-MODIFIED:20240313T073029Z
UID:20559-1717102800-1717110000@marcomartinez.es
SUMMARY:Sanremo • Al Baile La Temprana (Oviedo)
DESCRIPTION:Rita Ojanguren: voz \nMarco Martínez: guitarra
URL:https://marcomartinez.es/event/sanremo-3/
END:VEVENT
END:VCALENDAR